BEGIN:VCALENDAR
VERSION:2.0
PRODID:-//Stagecoach - ECPv6.15.20//NONSGML v1.0//EN
CALSCALE:GREGORIAN
METHOD:PUBLISH
X-ORIGINAL-URL:https://www.stagecoachfranchise.de
X-WR-CALDESC:Veranstaltungen für Stagecoach
REFRESH-INTERVAL;VALUE=DURATION:PT1H
X-Robots-Tag:noindex
X-PUBLISHED-TTL:PT1H
BEGIN:VTIMEZONE
TZID:Europe/Berlin
BEGIN:DAYLIGHT
TZOFFSETFROM:+0100
TZOFFSETTO:+0200
TZNAME:CEST
DTSTART:20240331T010000
END:DAYLIGHT
BEGIN:STANDARD
TZOFFSETFROM:+0200
TZOFFSETTO:+0100
TZNAME:CET
DTSTART:20241027T010000
END:STANDARD
BEGIN:DAYLIGHT
TZOFFSETFROM:+0100
TZOFFSETTO:+0200
TZNAME:CEST
DTSTART:20250330T010000
END:DAYLIGHT
BEGIN:STANDARD
TZOFFSETFROM:+0200
TZOFFSETTO:+0100
TZNAME:CET
DTSTART:20251026T010000
END:STANDARD
BEGIN:DAYLIGHT
TZOFFSETFROM:+0100
TZOFFSETTO:+0200
TZNAME:CEST
DTSTART:20260329T010000
END:DAYLIGHT
BEGIN:STANDARD
TZOFFSETFROM:+0200
TZOFFSETTO:+0100
TZNAME:CET
DTSTART:20261025T010000
END:STANDARD
END:VTIMEZONE
BEGIN:VEVENT
DTSTART;VALUE=DATE:20250815
DTEND;VALUE=DATE:20250817
DTSTAMP:20260423T130143
CREATED:20250718T202159Z
LAST-MODIFIED:20251109T232404Z
UID:1338-1755216000-1755388799@www.stagecoachfranchise.de
SUMMARY:Vorfreude auf den Summer Showcase "Chitty Chitty Bang Bang"
DESCRIPTION:Im Sommer 2025 hebt die Fantasie ab – denn das internationale Stagecoach Summer Showcase bringt den zeitlosen Musicalklassiker Chitty Chitty Bang Bang auf die Bühne von G Live in Guildford\, UK. Für junge Talente aus über 30 Ländern ist dies eine einzigartige Gelegenheit\, in einem professionellen Theaterumfeld zu proben\, aufzutreten und wertvolle Bühnenerfahrung zu sammeln. \nRund zwei Wochen lang werden ausgewählte Stagecoach-Schüler:innen intensiv mit Branchenprofis arbeiten – von Schauspiel- und Gesangscoaches bis hin zu erfahrenen Musical-Regisseur:innen und Choreograf:innen. Gemeinsam erwecken sie die Geschichte rund um die fliegende Chitty\, die Familie Potts und die magische Reise nach Vulgaria zum Leben. Mit bekannten Songs\, spannenden Charakteren und fantasievollen Momenten bietet dieses Musical perfekte Voraussetzungen\, um Kreativität\, Ausdrucksstärke und Selbstbewusstsein auf der Bühne zu entfalten. \nWir sind besonders stolz\, dass in diesem Jahr fünf talentierte Schüler:innen aus unseren deutschen Stagecoach-Schulen – Mainz\, Frankfurt Nord\, Dreieich und Berlin – die strengen Auditions gemeistert haben und Teil des internationalen Casts sein werden. Für sie ist das Showcase nicht nur ein künstlerisches Highlight\, sondern auch eine einmalige Erfahrung\, Freundschaften über Ländergrenzen hinweg zu knüpfen und gemeinsam in die Welt des professionellen Musiktheaters einzutauchen. \nWir können es kaum erwarten\, die energiegeladene Inszenierung live zu erleben und unseren jungen Darsteller:innen beim Wachsen und Strahlen auf der Bühne zuzusehen. Chitty Chitty Bang Bang verspricht ein unvergessliches Musicalabenteuer – voller Musik\, Magie\, Teamwork und inspirierender Momente.
URL:https://www.stagecoachfranchise.de/event/1338/
LOCATION:G Live\, London Road\, Guildford\, United Kingdom
ATTACH;FMTTYPE=image/png:https://www.stagecoachfranchise.de/wp-content/uploads/2025/11/Summer-Showcase-Chitty-Chitty-Bang-Bang.png
END:VEVENT
END:VCALENDAR