BEGIN:VCALENDAR
VERSION:2.0
PRODID:-//Stagecoach - ECPv6.15.20//NONSGML v1.0//EN
CALSCALE:GREGORIAN
METHOD:PUBLISH
X-WR-CALNAME:Stagecoach
X-ORIGINAL-URL:https://www.stagecoachfranchise.de
X-WR-CALDESC:Veranstaltungen für Stagecoach
REFRESH-INTERVAL;VALUE=DURATION:PT1H
X-Robots-Tag:noindex
X-PUBLISHED-TTL:PT1H
BEGIN:VTIMEZONE
TZID:Europe/Berlin
BEGIN:DAYLIGHT
TZOFFSETFROM:+0100
TZOFFSETTO:+0200
TZNAME:CEST
DTSTART:20240331T010000
END:DAYLIGHT
BEGIN:STANDARD
TZOFFSETFROM:+0200
TZOFFSETTO:+0100
TZNAME:CET
DTSTART:20241027T010000
END:STANDARD
BEGIN:DAYLIGHT
TZOFFSETFROM:+0100
TZOFFSETTO:+0200
TZNAME:CEST
DTSTART:20250330T010000
END:DAYLIGHT
BEGIN:STANDARD
TZOFFSETFROM:+0200
TZOFFSETTO:+0100
TZNAME:CET
DTSTART:20251026T010000
END:STANDARD
BEGIN:DAYLIGHT
TZOFFSETFROM:+0100
TZOFFSETTO:+0200
TZNAME:CEST
DTSTART:20260329T010000
END:DAYLIGHT
BEGIN:STANDARD
TZOFFSETFROM:+0200
TZOFFSETTO:+0100
TZNAME:CET
DTSTART:20261025T010000
END:STANDARD
END:VTIMEZONE
BEGIN:VEVENT
DTSTART;VALUE=DATE:20251212
DTEND;VALUE=DATE:20251215
DTSTAMP:20260421T192148
CREATED:20251109T223559Z
LAST-MODIFIED:20251109T223833Z
UID:1322-1765497600-1765756799@www.stagecoachfranchise.de
SUMMARY:Let's Sing Christmas - Weihnachten mit Disney
DESCRIPTION:Im Dezember findet für Stagecoach Deutschland ein besonderes Highlight statt: Vom 12. bis 14. Dezember reisen Schüler:innen aus sechs Stagecoach-Schulen nach Disneyland Paris\, um am offiziellen Disney-Weihnachtsevent „Let’s Sing Christmas“ teilzunehmen. Für dieses außergewöhnliche Erlebnis konnten sich alle anmelden\, die Lust hatten\, Teil des Programms zu sein. \nAn zwei Tagen werden die Stagecoach-Kinder gemeinsam mit Mickey und weiteren Disney-Figuren sieben Weihnachtslieder präsentieren – darunter auch ein französisches Lied\, das im Vorfeld mit viel Freude und Einsatz eingeübt wurde. Die intensiven Proben in den Wochen zuvor sind abgeschlossen und aktuell findet nur noch Feintuning statt\, bevor die Reise nach Paris beginnt. \nDieses Event vereint genau das\, was Stagecoach ausmacht: kreative Bildung\, gemeinsames Erleben\, persönliches Wachstum und die Chance\, Selbstvertrauen in einem professionellen Umfeld zu entwickeln. Für die teilnehmenden Schüler:innen bedeutet dieser Auftritt nicht nur ein unvergessliches Wochenende\, sondern auch eine besondere Gelegenheit\, ihre Leidenschaft für Gesang und darstellende Künste auf einer internationalen Veranstaltung zu zeigen. \nMit dieser Erfahrung stärken Kinder und Jugendliche ihre Bühnenpräsenz\, Teamfähigkeit und Ausdruckskraft – Werte\, die Stagecoach Germany seit Jahren erfolgreich vermittelt.
URL:https://www.stagecoachfranchise.de/event/lets-sing-christmas-weihnachten-mit-disney/
LOCATION:Disneyland Paris\, Boulevard de Parc\, Coupvray\, 77700\, France
ATTACH;FMTTYPE=image/png:https://www.stagecoachfranchise.de/wp-content/uploads/2025/11/lets-sing.png
END:VEVENT
END:VCALENDAR