BEGIN:VCALENDAR
VERSION:2.0
PRODID:-//Stagecoach - ECPv6.15.20//NONSGML v1.0//EN
CALSCALE:GREGORIAN
METHOD:PUBLISH
X-WR-CALNAME:Stagecoach
X-ORIGINAL-URL:https://www.stagecoachfranchise.de
X-WR-CALDESC:Veranstaltungen für Stagecoach
REFRESH-INTERVAL;VALUE=DURATION:PT1H
X-Robots-Tag:noindex
X-PUBLISHED-TTL:PT1H
BEGIN:VTIMEZONE
TZID:Europe/Berlin
BEGIN:DAYLIGHT
TZOFFSETFROM:+0100
TZOFFSETTO:+0200
TZNAME:CEST
DTSTART:20230326T010000
END:DAYLIGHT
BEGIN:STANDARD
TZOFFSETFROM:+0200
TZOFFSETTO:+0100
TZNAME:CET
DTSTART:20231029T010000
END:STANDARD
BEGIN:DAYLIGHT
TZOFFSETFROM:+0100
TZOFFSETTO:+0200
TZNAME:CEST
DTSTART:20240331T010000
END:DAYLIGHT
BEGIN:STANDARD
TZOFFSETFROM:+0200
TZOFFSETTO:+0100
TZNAME:CET
DTSTART:20241027T010000
END:STANDARD
BEGIN:DAYLIGHT
TZOFFSETFROM:+0100
TZOFFSETTO:+0200
TZNAME:CEST
DTSTART:20250330T010000
END:DAYLIGHT
BEGIN:STANDARD
TZOFFSETFROM:+0200
TZOFFSETTO:+0100
TZNAME:CET
DTSTART:20251026T010000
END:STANDARD
END:VTIMEZONE
BEGIN:VEVENT
DTSTART;TZID=Europe/Berlin:20240817T080000
DTEND;TZID=Europe/Berlin:20240818T170000
DTSTAMP:20260426T003709
CREATED:20240903T125604Z
LAST-MODIFIED:20240903T125604Z
UID:1169-1723881600-1724000400@www.stagecoachfranchise.de
SUMMARY:Stagecoach Summer Showcase 2024 präsentiert das Musical “Bring it on”
DESCRIPTION:Das internationale Summer Showcase ist eines der größten Events bei Stagecoach und bietet eine einzigartige Gelegenheit für unsere Schüler aus aller Welt\, in einem professionellen Umfeld an einer Musicalproduktion teilzunehmen. Um Teil dieses besonderen Erlebnisses zu werden\, müssen die Schüler zunächst in einem anspruchsvollen Casting ihr Talent unter Beweis stellen. \nIn diesem Jahr fand das Summer Showcase im August in Guildford\, UK statt\, wo das energiegeladene Musical „Bring it On“ inszeniert wurde. Die Aufführung bot unseren Schüler eine fantastische Plattform\, ihre Fähigkeiten in Gesang\, Tanz und Schauspiel zu zeigen und weiterzuentwickeln. Die Produktion wurde von namhaften Experten der Theater- und Musicalszene begleitet: Gary Jerry übernahm die Regie\, Daniel Todd die Choreografie und Greg Arrowsmith die musikalische Leitung. Diese Zusammenarbeit mit Branchenprofis machte das Showcase zu einem unvergesslichen Erlebnis. \nBesonders stolz sind wir darauf\, dass fünf talentierte Schüler:innen aus unseren deutschen Stagecoach-Schulen in diesem Jahr die Castings erfolgreich bestanden und nach zwei intensiven Wochen im Summer Showcase Workshop am 17. und 18. August im Musical mitwirken durften. \nAuch im nächsten Jahr werden wieder Schüler aus der ganzen Welt die Chance haben\, beim Summer Showcase ihr Können zu zeigen und wertvolle Bühnenerfahrungen zu sammeln. Wann der nächste internationale Showcase im nächsten Jahr stattfindet und welches Musical von Stagecoach Talents inszeniert wird\, erfahren Sie hier.
URL:https://www.stagecoachfranchise.de/event/stagecoach-summer-showcase-2024-praesentiert-das-musical-bring-it-on/
LOCATION:G Live\, London Road\, Guildford\, United Kingdom
ATTACH;FMTTYPE=image/jpeg:https://www.stagecoachfranchise.de/wp-content/uploads/2024/09/stagecoach-summer-showcase.jpg
END:VEVENT
END:VCALENDAR